BEGIN:VCALENDAR
VERSION:2.0
PRODID:-//Malta Health Network - ECPv4.9.9//NONSGML v1.0//EN
CALSCALE:GREGORIAN
METHOD:PUBLISH
X-WR-CALNAME:Malta Health Network
X-ORIGINAL-URL:https://www.maltahealthnetwork.org
X-WR-CALDESC:Events for Malta Health Network
BEGIN:VTIMEZONE
TZID:UTC
BEGIN:STANDARD
TZOFFSETFROM:+0000
TZOFFSETTO:+0000
TZNAME:UTC
DTSTART:20260101T000000
END:STANDARD
END:VTIMEZONE
BEGIN:VEVENT
DTSTART;TZID=UTC:20260429T173000
DTEND;TZID=UTC:20260429T190000
DTSTAMP:20260425T183325
CREATED:20260420T055218Z
LAST-MODIFIED:20260420T055218Z
UID:5650-1777483800-1777489200@www.maltahealthnetwork.org
SUMMARY:Singing &Autism
DESCRIPTION:Singing and Autism \nDate & Time: Wednesday\, 29th April 2026\, 17:30 – 19:00\nVenue: Voluntary Support Centre\, 63\, Triq Herba\, Birkirkara\, Malta. \nFor more details view: https://www.facebook.com/photo?fbid=1262924185962293&set=a.505496035038449 \n
URL:https://www.maltahealthnetwork.org/events/singing-autism/
ATTACH;FMTTYPE=image/png:https://www.maltahealthnetwork.org/wp-content/uploads/2026/04/Singing-Autism_poster-5-1.png
END:VEVENT
END:VCALENDAR